BEGIN:VCALENDAR
VERSION:2.0
PRODID:-//Freebeachbar Lounge Bar and Restaurant - ECPv4.6.16//NONSGML v1.0//EN
CALSCALE:GREGORIAN
METHOD:PUBLISH
X-WR-CALNAME:Freebeachbar Lounge Bar and Restaurant
X-ORIGINAL-URL:https://freebeachbar.gr
X-WR-CALDESC:Events for Freebeachbar Lounge Bar and Restaurant
BEGIN:VEVENT
DTSTART;VALUE=DATE:20190614
DTEND;VALUE=DATE:20190617
DTSTAMP:20260423T222641
CREATED:20190212T144448Z
LAST-MODIFIED:20190528T073152Z
UID:2719-1560470400-1560729599@freebeachbar.gr
SUMMARY:Beach Volley World Tour 1 star Tournament 2019 at Ios Mylopotas
DESCRIPTION:Luxurios\, FIVB (world volley federation) & Free beach bar welcome you to the first 1 star Beach Volley World Tournament  held on Ios Island for both men and women. Professional athletes from all over the world will attend and take part in the tournament\, offering a spectacular show to all spectators . Also the Greek National teams will join this tournament in order to reach their goal and qualify to the Olympics  2020.This will be the first time in the last 15 years the world tournament will take place in Greece making Ios the center of attention . Lost of celebrities will join the games and  numerous prizes will be awarded to all winners in both categories. For more information go to http://worldtour.2019.fivb.com/en/807 \n
URL:https://freebeachbar.gr/event/beach-volley-world-tour-1-star-tournament-2019-at-ios-mylopotas/
LOCATION:FreeBeachBar\, Ios Island\, Cyclades\, 84001\, Greece
CATEGORIES:Events,FreeBeachBar Events,Sports
ATTACH;FMTTYPE=image/jpeg:https://freebeachbar.gr/wp-content/uploads/2019/02/ios-poster-beach-volley.jpg
ORGANIZER;CN="Free%20Beach%20Bar":MAILTO:info@freebeachbar.gr
END:VEVENT
END:VCALENDAR